BEGIN:VCALENDAR
VERSION:2.0
PRODID:-//LGS Foundation - ECPv6.15.17.1//NONSGML v1.0//EN
CALSCALE:GREGORIAN
METHOD:PUBLISH
X-ORIGINAL-URL:https://www.lgsfoundation.org
X-WR-CALDESC:Events for LGS Foundation
REFRESH-INTERVAL;VALUE=DURATION:PT1H
X-Robots-Tag:noindex
X-PUBLISHED-TTL:PT1H
BEGIN:VTIMEZONE
TZID:America/New_York
BEGIN:DAYLIGHT
TZOFFSETFROM:-0500
TZOFFSETTO:-0400
TZNAME:EDT
DTSTART:20250309T070000
END:DAYLIGHT
BEGIN:STANDARD
TZOFFSETFROM:-0400
TZOFFSETTO:-0500
TZNAME:EST
DTSTART:20251102T060000
END:STANDARD
BEGIN:DAYLIGHT
TZOFFSETFROM:-0500
TZOFFSETTO:-0400
TZNAME:EDT
DTSTART:20260308T070000
END:DAYLIGHT
BEGIN:STANDARD
TZOFFSETFROM:-0400
TZOFFSETTO:-0500
TZNAME:EST
DTSTART:20261101T060000
END:STANDARD
BEGIN:DAYLIGHT
TZOFFSETFROM:-0500
TZOFFSETTO:-0400
TZNAME:EDT
DTSTART:20270314T070000
END:DAYLIGHT
BEGIN:STANDARD
TZOFFSETFROM:-0400
TZOFFSETTO:-0500
TZNAME:EST
DTSTART:20271107T060000
END:STANDARD
END:VTIMEZONE
BEGIN:VEVENT
DTSTART;VALUE=DATE:20260709
DTEND;VALUE=DATE:20260712
DTSTAMP:20260422T162640
CREATED:20250523T173020Z
LAST-MODIFIED:20260210T165015Z
UID:10000223-1783555200-1783814399@www.lgsfoundation.org
SUMMARY:10th International Family & Professional Conference
DESCRIPTION:Save the Date! | July 9–11\, 2026\n📍 Orlando\, Florida\nJoin us for the LGS Foundation’s 10th International Family & Professional Conference\, a powerful three-day event that brings together hundreds of families\, caregivers\, and epilepsy professionals from around the globe. \nHeld every two years\, this comprehensive conference explores the latest in Lennox-Gastaut Syndrome (LGS) research\, treatments\, services\, and strategies to improve quality of life. Whether you’re looking for expert talks\, practical resources\, or community connection\, this event is for you. \n✨ Don’t miss this special opportunity to connect\, learn\, and grow with the global LGS community. \nMore details and registration coming soon! \nLearn More
URL:https://www.lgsfoundation.org/event/10th-international-family-professional-conference/
LOCATION:Caribe Royale Orlando\, 8101 World Center Drive\, Orlando\, FL\, 32821\, United States
ATTACH;FMTTYPE=image/png:https://www.lgsfoundation.org/wp-content/uploads/2021/08/Conference-Logo-Options-2.png
ORGANIZER;CN="LGS Foundation":MAILTO:info@lgsfoundation.org
GEO:28.3612508;-81.4917908
X-APPLE-STRUCTURED-LOCATION;VALUE=URI;X-ADDRESS=Caribe Royale Orlando 8101 World Center Drive Orlando FL 32821 United States;X-APPLE-RADIUS=500;X-TITLE=8101 World Center Drive:geo:-81.4917908,28.3612508
END:VEVENT
BEGIN:VEVENT
DTSTART;TZID=America/New_York:20261005T190000
DTEND;TZID=America/New_York:20261005T203000
DTSTAMP:20260422T162640
CREATED:20260406T154825Z
LAST-MODIFIED:20260406T154825Z
UID:10000291-1791226800-1791232200@www.lgsfoundation.org
SUMMARY:LGS New Family Orientation
DESCRIPTION:Welcome. This virtual orientation is designed for caregivers who are new to Lennox-Gastaut Syndrome (LGS) and/or new to the LGS Foundation. \nDuring this session\, we will introduce you to our mission\, walk through key resources and programs\, and share ways you can get connected within the LGS community. You will also learn about opportunities to contribute to research and access tools designed to support your family’s journey. \nWe will close with an open\, supportive group conversation where you can connect with other caregivers\, ask questions\, and share experiences. \nWhether you are newly diagnosed or navigating a new stage of care\, this space is here for you. \nTo receive invitation details\, please email FamilySupport@LGSFoundation.org. \n\nWho Should Attend\nCaregivers and families who are new to LGS or newly connected to the LGS Foundation \n\nWhat to Expect\n\nIntroduction to the LGS Foundation\nOverview of programs and resources\nWays to get involved and stay connected\nResearch participation opportunities\nOpen caregiver discussion and Q&A
URL:https://www.lgsfoundation.org/event/lgs-new-family-orientation-3/
LOCATION:Virtual
ATTACH;FMTTYPE=image/png:https://www.lgsfoundation.org/wp-content/uploads/2025/08/Copy-of-Invitation-to-New-Family-Orientation-email-header-.png
ORGANIZER;CN="LGS Foundation Family Support":MAILTO:FamilySupport@LGSFoundation.org
END:VEVENT
END:VCALENDAR